BEGIN:VCALENDAR
VERSION:2.0
PRODID:-//ChamberMaster//Event Calendar 2.0//EN
METHOD:PUBLISH
X-PUBLISHED-TTL:P3D
REFRESH-INTERVAL:P3D
CALSCALE:GREGORIAN
BEGIN:VEVENT
DTSTART:20241023T140000Z
DTEND:20241023T143000Z
X-MICROSOFT-CDO-ALLDAYEVENT:FALSE
SUMMARY:Webinar: Small Business Loans
DESCRIPTION:Small Business Loans With market conditions changing\, it's crucial to stay informed about your financing options. Join Wintrust's George Santiago\, VP Business Banking\, to learn about low interest loans to small businesses for start-up costs\, working capital\, equipment and inventory.
X-ALT-DESC;FMTTYPE=text/html:<p style="margin: 0px\; font-style: normal\; font-variant-caps: normal\; font-stretch: normal\; font-size: 12px\; line-height: normal\; font-family: Helvetica\; font-size-adjust: none\; font-kerning: auto\; font-variant-alternates: normal\; font-variant-ligatures: normal\; font-variant-numeric: normal\; font-variant-east-asian: normal\; font-variant-position: normal\; font-variant-emoji: normal\; font-feature-settings: normal\; font-optical-sizing: auto\; font-variation-settings: normal\;">Small Business Loans With market conditions changing\, it&#39\;s crucial to stay informed about your financing options. Join Wintrust&#39\;s George Santiago\, VP Business Banking\, to learn about low interest loans to small businesses for start-up costs\, working capital\, equipment and inventory.</p>\n\n<p style="margin: 0px\; font-style: normal\; font-variant-caps: normal\; font-stretch: normal\; font-size: 12px\; line-height: normal\; font-family: Helvetica\; font-size-adjust: none\; font-kerning: auto\; font-variant-alternates: normal\; font-variant-ligatures: normal\; font-variant-numeric: normal\; font-variant-east-asian: normal\; font-variant-position: normal\; font-variant-emoji: normal\; font-feature-settings: normal\; font-optical-sizing: auto\; font-variation-settings: normal\;">&nbsp\;</p>\n
LOCATION:Webinar (zoom)
UID:e.2823.16527
SEQUENCE:3
DTSTAMP:20260424T072859Z
URL:https://members.alchamber.com/events/details/webinar-small-business-loans-16527
END:VEVENT

END:VCALENDAR
