BEGIN:VCALENDAR
VERSION:2.0
PRODID:-//ChamberMaster//Event Calendar 2.0//EN
METHOD:PUBLISH
X-PUBLISHED-TTL:P3D
REFRESH-INTERVAL:P3D
CALSCALE:GREGORIAN
BEGIN:VEVENT
DTSTART;VALUE=DATE:20260423
DTEND;VALUE=DATE:20260502
TRANSP:TRANSPARENT
X-MICROSOFT-CDO-ALLDAYEVENT:TRUE
SUMMARY:Junior Golden Eagles Cheer: Fall Registration Closes May 1st!
DESCRIPTION:JGE Fall 2026 Cheer Registration Closes May 1st!\n\nThere's still time to join the nest for our Fall 2026 season but spots are limited!\n\nWhether your athlete is looking to start their journey in Recreational Cheer or take things to the next level with Competitive Cheer\, JGE has a place for them!\n\nWhy Join JGE?\n\n\n	Grade-based squads for all experience levels\n	Supportive\, family-oriented environment\n	Experienced coaches focused on growth and confidence\n	Opportunities in both sideline and competitive cheer\n	A program where athletes grow year after year\n\n\nCheck out our catalog in the comments for full details on:\n\n\n	Program options\n	Squad grade levels\n	Practice schedules\n	What makes JGE different\n\n\nRegistration closes May 1   don't miss your chance to be part of our 25th Anniversary Season!\n\nJoin us today and see why JGE is the place to be!!
X-ALT-DESC;FMTTYPE=text/html:<p data-end="46" data-start="0">JGE Fall 2026 Cheer Registration Closes May 1st!</p>\n\n<p data-end="131" data-start="48">There&rsquo\;s still time to join the nest for our Fall 2026 season&mdash\;but spots are limited!</p>\n\n<p data-end="292" data-start="133">Whether your athlete is looking to start their journey in Recreational Cheer or take things to the next level with Competitive Cheer\, JGE has a place for them!</p>\n\n<p data-end="307" data-start="294">Why Join JGE?</p>\n\n<ul data-end="564" data-start="308">\n	<li data-end="356" data-section-id="k1bukh" data-start="308">Grade-based squads for all experience levels</li>\n	<li data-end="400" data-section-id="1aq8jud" data-start="357">Supportive\, family-oriented environment</li>\n	<li data-end="457" data-section-id="syjwds" data-start="401">Experienced coaches focused on growth and confidence</li>\n	<li data-end="514" data-section-id="1alnnep" data-start="458">Opportunities in both sideline and competitive cheer</li>\n	<li data-end="564" data-section-id="sn4wr3" data-start="515">A program where athletes grow year after year</li>\n</ul>\n\n<p data-end="624" data-start="566">Check out our catalog in the comments for full details on:</p>\n\n<ul data-end="719" data-start="625">\n	<li data-end="644" data-section-id="1gsmkng" data-start="625">Program options</li>\n	<li data-end="667" data-section-id="r4le22" data-start="645">Squad grade levels</li>\n	<li data-end="690" data-section-id="1ljqmo5" data-start="668">Practice schedules</li>\n	<li data-end="719" data-section-id="1jvn6bi" data-start="691">What makes JGE different</li>\n</ul>\n\n<p data-end="814" data-start="721">Registration closes May 1 &mdash\; don&rsquo\;t miss your chance to be part of our 25th Anniversary Season!</p>\n\n<p data-end="896" data-is-last-node="" data-is-only-node="" data-start="816">Join us today and see why JGE is the place to be!!</p>\n
LOCATION:
UID:e.2823.17563
SEQUENCE:3
DTSTAMP:20260423T184506Z
URL:https://members.alchamber.com/events/details/junior-golden-eagles-cheer-fall-registration-closes-may-1st-17563
END:VEVENT

END:VCALENDAR
