BEGIN:VCALENDAR
VERSION:2.0
PRODID:-//ChamberMaster//Event Calendar 2.0//EN
METHOD:PUBLISH
X-PUBLISHED-TTL:P3D
REFRESH-INTERVAL:P3D
CALSCALE:GREGORIAN
BEGIN:VEVENT
DTSTART:20260414T124500Z
DTEND:20260415T013000Z
X-MICROSOFT-CDO-ALLDAYEVENT:FALSE
SUMMARY:Cup of Joe\, Before you Go: HD Appliance & Installations
DESCRIPTION:Unlock the power of connections over a Cup of Joe Before You Go! Join us bright and early from 7:45 to 8:30 am at different member businesses in our vibrant community. \n\n\n\nHosted by the Algonquin/Lake in the Hills Chamber of Commerce\, this dynamic networking event welcomes business owners and professionals alike. Whether you're a seasoned entrepreneur or just starting out\, seize this opportunity to forge meaningful connections\, exchange ideas\, and explore new opportunities. Don't miss out\, everyone's invited\, member or not!\n\n\nTHIS MONTH WE ARE AT:  \n\nHD Appliance & Installations\nTuesday\, April 14th | 7:45am - 8:30am\n\n(followed by a ribbon cutting)
X-ALT-DESC;FMTTYPE=text/html:<div font-size:="" style="color: rgb(51\, 51\, 51)\; font-family: sans-serif\, Arial\, Verdana\, &quot\;Trebuchet MS&quot\;\; font-size: 13px\;" text-align:="" trebuchet="">\n<div font-size:="" text-align:="" trebuchet="">Unlock the power of connections over a Cup of Joe Before You Go! Join us bright and early from 7:45 to 8:30 am at different member businesses in our vibrant community.&nbsp\;<br />\n<br />\nHosted by the Algonquin/Lake in the Hills Chamber of Commerce\, this dynamic networking event welcomes business owners and professionals alike. Whether you&#39\;re a seasoned entrepreneur or just starting out\, seize this opportunity to forge meaningful connections\, exchange ideas\, and explore new opportunities. Don&#39\;t miss out\,&nbsp\;everyone&#39\;s invited\, member or not!</div>\n<br />\n<em><strong><u>THIS MONTH WE ARE AT:&nbsp\;</u>&nbsp\;<br />\nHD Appliance &amp\; Installations</strong></em></div>\n<span style="color: rgb(51\, 51\, 51)\; text-align: center\; font-family: arial\; font-size: 12px\;">Tuesday\, April 14th |</span><span style="color: rgb(51\, 51\, 51)\; text-align: center\; font-family: arial\; font-size: 12px\;">&nbsp\;7:45am - 8:30am<br />\n<em>(followed by a ribbon cutting)</em></span>
LOCATION:HD Appliance & Installations 1294 Industrial Dr Lake in the Hills\, IL 60156
UID:e.2823.17366
SEQUENCE:3
DTSTAMP:20260421T100452Z
URL:https://members.alchamber.com/events/details/cup-of-joe-before-you-go-hd-appliance-installations-17366
END:VEVENT

END:VCALENDAR
