BEGIN:VCALENDAR
VERSION:2.0
PRODID:-//ChamberMaster//Event Calendar 2.0//EN
METHOD:PUBLISH
X-PUBLISHED-TTL:P3D
REFRESH-INTERVAL:P3D
CALSCALE:GREGORIAN
BEGIN:VEVENT
DTSTART:20260609T123000Z
DTEND:20260609T141500Z
X-MICROSOFT-CDO-ALLDAYEVENT:FALSE
SUMMARY:CASA Hero Award Breakfast
DESCRIPTION:Start your morning with us at the 2026 CASA Hero Awards Breakfast on Tuesday\, June 9 at Boulder Ridge Country Club in Lake in the Hills.\n\n \n\nCASA of McHenry Hero Honorees\n\n \n\nEnjoy a delicious buffet breakfast beginning at 7:30 AM\, followed by our awards presentation at 8:00 AM\, as we celebrate seven incredible honorees whose compassion\, dedication\, and support help make CASA's mission possible.\n\n \n\nThis special morning is a chance to come together with advocates\, supporters\, and community members to recognize the people making a lasting difference for children in foster care.\n\n \n\nWe hope you will join us for a heartfelt and inspiring celebration.   CASA Hero Awards Tickets
X-ALT-DESC;FMTTYPE=text/html:<span style="color:#080809"><span style="font-family:segoe ui historic\,sans-serif"><span style="font-size:11.5pt">Start your morning with us at the 2026 CASA Hero Awards Breakfast on Tuesday\, June 9 at Boulder Ridge Country Club in Lake in the Hills.</span></span></span><br />\n&nbsp\;<br />\n<span style="color:#080809"><span style="font-family:segoe ui historic\,sans-serif"><span style="font-size:11.5pt"><a href="https://www.facebook.com/reel/936589972470131">CASA of McHenry Hero Honorees</a></span></span></span><br />\n&nbsp\;<br />\n<span style="color:#080809"><span style="font-family:segoe ui historic\,sans-serif"><span style="font-size:11.5pt">Enjoy a delicious buffet breakfast beginning at 7:30 AM\, followed by our awards presentation at 8:00 AM\, as we celebrate seven incredible honorees whose compassion\, dedication\, and support help make CASA&rsquo\;s mission possible.</span></span></span><br />\n&nbsp\;<br />\n<span style="color:#080809"><span style="font-family:segoe ui historic\,sans-serif"><span style="font-size:11.5pt">This special morning is a chance to come together with advocates\, supporters\, and community members to recognize the people making a lasting difference for children in foster care.</span></span></span><br />\n&nbsp\;<br />\n<span style="color:#080809"><span style="font-family:segoe ui historic\,sans-serif"><span style="font-size:11.5pt">We hope you will join us for a heartfelt and inspiring celebration.&nbsp\;&nbsp\; <a href="https://l.facebook.com/l.php?u=https%3A%2F%2Fbit.ly%2F4dPw6Ls%3Ffbclid%3DIwZXh0bgNhZW0CMTAAYnJpZBExUFNJZURhcWsyeERrTHBwVXNydGMGYXBwX2lkEDIyMjAzOTE3ODgyMDA4OTIAAR6B4STeBEVztCoT_gPtJgGGLkU0u95ebQvT4nZkT8GyOBBhgIvYelgx5GT-Hg_aem_c3yUZ6Vm43qlJ4Ka-su7CQ&amp\;h=AT75UlMQdTtftFEbtXhcOMDL-zSTZnOuzIeabJVHxlTbXtaNQP_oSHq5rUacT_CCCLuYuHUAHj5D23QYD_bFpDQbSt3gSLGrZGAqEMFwO8gHUkEjfHXMi4vHaTjKwAL2ckk">CASA Hero Awards Tickets</a></span></span></span><br />\n&nbsp\;<br />\n&nbsp\;<br />\n&nbsp\;<br />\n&nbsp\;
LOCATION:Boulder Ridge Country Club 350 Boulder Drive Lake in the Hills
UID:e.2823.17562
SEQUENCE:3
DTSTAMP:20260424T043208Z
URL:https://members.alchamber.com/events/details/casa-hero-award-breakfast-17562
END:VEVENT

END:VCALENDAR
