BEGIN:VCALENDAR
VERSION:2.0
PRODID:-//ChamberMaster//Event Calendar 2.0//EN
METHOD:PUBLISH
X-PUBLISHED-TTL:P3D
REFRESH-INTERVAL:P3D
CALSCALE:GREGORIAN
BEGIN:VEVENT
DTSTART:20210916T163000Z
DTEND:20210916T180000Z
X-MICROSOFT-CDO-ALLDAYEVENT:FALSE
SUMMARY:3rd Thursday Lunch Break
DESCRIPTION:Join us the third Thursday of every month to support a local chamber restaurant and networking with other business leaders.\n\n\n\nWe hope to see you there.
X-ALT-DESC;FMTTYPE=text/html:Join us the third Thursday of every month to support a local chamber restaurant and networking with other business leaders.<br />\n<br />\nWe hope to see you there.
LOCATION:Cattleman's Burger & Brew 205 S. Main St.\, Algonquin P: 847.678.9444
UID:e.2823.15434
SEQUENCE:3
DTSTAMP:20260424T071236Z
URL:https://members.alchamber.com/events/details/3rd-thursday-lunch-break-15434
END:VEVENT

END:VCALENDAR
